BEGIN:VCALENDAR
VERSION:2.0
PRODID:-//ChamberMaster//Event Calendar 2.0//EN
METHOD:PUBLISH
X-PUBLISHED-TTL:P3D
REFRESH-INTERVAL:P3D
CALSCALE:GREGORIAN
BEGIN:VEVENT
DTSTART;VALUE=DATE:20091029
DTEND;VALUE=DATE:20091030
TRANSP:TRANSPARENT
X-MICROSOFT-CDO-ALLDAYEVENT:TRUE
SUMMARY:Sticks-n-Bricks
DESCRIPTION:This seminar teaches the specifics of selling new home construction. It will be on site so you can see the various stages of construction. Our goal is to provide you with necessary information to understand the process\, educate your buyer and to use construction as a selling tool.  To register for this class go to: http://www.hbar.org/documents/sticksnbricksflyer3.pdf
X-ALT-DESC;FMTTYPE=text/html:<p>This seminar teaches the specifics of selling new home construction. It will be on site so you can see the various stages of construction. Our goal is to provide you with necessary information to understand the process\, educate your buyer and to use construction as a selling tool.&nbsp\;</p> <p>To register for this class go to: <a href="http://www.hbar.org/documents/sticksnbricksflyer3.pdf">http://www.hbar.org/documents/sticksnbricksflyer3.pdf</a>&nbsp\;</p>
LOCATION:\,
UID:e.9289.364
SEQUENCE:3
DTSTAMP:20260422T141713Z
URL:https://members.hbar.org/events/details/sticks-n-bricks-10-29-2009-364
END:VEVENT

END:VCALENDAR
