BEGIN:VCALENDAR
VERSION:2.0
PRODID:-//ChamberMaster//Event Calendar 2.0//EN
METHOD:PUBLISH
X-PUBLISHED-TTL:P3D
REFRESH-INTERVAL:P3D
CALSCALE:GREGORIAN
BEGIN:VEVENT
DTSTART:20080612T220000Z
DTEND:20080612T160000Z
X-MICROSOFT-CDO-ALLDAYEVENT:FALSE
SUMMARY:Spring Fling Golf Tournament
DESCRIPTION:
X-ALT-DESC;FMTTYPE=text/html:
LOCATION:The Crossings Golf Club Richmond\, VA 23228
UID:e.9289.354
SEQUENCE:3
DTSTAMP:20260421T180236Z
URL:https://members.hbar.org/events/details/spring-fling-golf-tournament-06-12-2008-354
END:VEVENT

END:VCALENDAR
