BEGIN:VCALENDAR
VERSION:2.0
PRODID:-//ChamberMaster//Event Calendar 2.0//EN
METHOD:PUBLISH
X-PUBLISHED-TTL:P3D
REFRESH-INTERVAL:P3D
CALSCALE:GREGORIAN
BEGIN:VEVENT
DTSTART;VALUE=DATE:20091103
DTEND;VALUE=DATE:20091104
TRANSP:TRANSPARENT
X-MICROSOFT-CDO-ALLDAYEVENT:TRUE
SUMMARY:Social Media Seminar
DESCRIPTION:Carol Flammer is a public relations and social media marketing expert\, strategist and consultant. With 20 years of experience\, Carol has established herself as the "go to" for real estate and construction products public relations and social media. Carol is president of Flammer Relations\, Inc.\, and managing partner of mRELEVANCE\, LLC\, an Internet Marketing\, Social Media and Public Relations firm with offices in Atlanta and Chicago. To register for this event go to: http://www.hbar.org/documents/socialmedia_001.pdf
X-ALT-DESC;FMTTYPE=text/html:<p>Carol Flammer is a public relations and social media marketing expert\, strategist and consultant. With 20 years of experience\, Carol has established herself as the &ldquo\;go to&rdquo\; for real estate and construction products public relations and social media. Carol is president of Flammer Relations\, Inc.\, and managing partner of mRELEVANCE\, LLC\, an Internet Marketing\, Social Media and Public Relations firm with offices in Atlanta and Chicago.</p> <p>To register for this event go to: <a href="http://www.hbar.org/documents/socialmedia_001.pdf">http://www.hbar.org/documents/socialmedia_001.pdf</a>&nbsp\;</p>
LOCATION:4224 Cox Rd Glen Allen\, VA 23060
UID:e.9289.349
SEQUENCE:3
DTSTAMP:20260422T155314Z
URL:https://members.hbar.org/events/details/social-media-seminar-11-03-2009-349
END:VEVENT

END:VCALENDAR
