BEGIN:VCALENDAR
VERSION:2.0
PRODID:-//ChamberMaster//Event Calendar 2.0//EN
METHOD:PUBLISH
X-PUBLISHED-TTL:P3D
REFRESH-INTERVAL:P3D
CALSCALE:GREGORIAN
BEGIN:VEVENT
DTSTART:20110602T160000Z
DTEND:20110602T220000Z
X-MICROSOFT-CDO-ALLDAYEVENT:FALSE
SUMMARY:SMC New Home Social
DESCRIPTION:
X-ALT-DESC;FMTTYPE=text/html:
LOCATION:Tarrington Sales Center 3307 Fulbrook Drive Midlothian\, VA 23113
UID:e.9289.323
SEQUENCE:3
DTSTAMP:20260425T151934Z
URL:https://members.hbar.org/events/details/smc-new-home-social-06-02-2011-323
END:VEVENT

END:VCALENDAR
