BEGIN:VCALENDAR
VERSION:2.0
PRODID:-//ChamberMaster//Event Calendar 2.0//EN
METHOD:PUBLISH
X-PUBLISHED-TTL:P3D
REFRESH-INTERVAL:P3D
CALSCALE:GREGORIAN
BEGIN:VEVENT
DTSTART;VALUE=DATE:20120119
DTEND;VALUE=DATE:20120120
TRANSP:TRANSPARENT
X-MICROSOFT-CDO-ALLDAYEVENT:TRUE
SUMMARY:SMC MAME AWARDS ''CALL FOR ENTRIES''
DESCRIPTION:
X-ALT-DESC;FMTTYPE=text/html:
LOCATION:\, VA
UID:e.9289.308
SEQUENCE:3
DTSTAMP:20260426T041742Z
URL:https://members.hbar.org/events/details/smc-mame-awards-call-for-entries-01-19-2012-308
END:VEVENT

END:VCALENDAR
