BEGIN:VCALENDAR
VERSION:2.0
PRODID:-//ChamberMaster//Event Calendar 2.0//EN
METHOD:PUBLISH
X-PUBLISHED-TTL:P3D
REFRESH-INTERVAL:P3D
CALSCALE:GREGORIAN
BEGIN:VEVENT
DTSTART;VALUE=DATE:20080911
DTEND;VALUE=DATE:20080912
TRANSP:TRANSPARENT
X-MICROSOFT-CDO-ALLDAYEVENT:TRUE
SUMMARY:Seafood Feast
DESCRIPTION:
X-ALT-DESC;FMTTYPE=text/html:
LOCATION:Hunting Hawk Golf Club Hanover\, VA 23228
UID:e.9289.289
SEQUENCE:3
DTSTAMP:20260421T123716Z
URL:https://members.hbar.org/events/details/seafood-feast-09-11-2008-289
END:VEVENT

END:VCALENDAR
