BEGIN:VCALENDAR
VERSION:2.0
PRODID:-//ChamberMaster//Event Calendar 2.0//EN
METHOD:PUBLISH
X-PUBLISHED-TTL:P3D
REFRESH-INTERVAL:P3D
CALSCALE:GREGORIAN
BEGIN:VEVENT
DTSTART;VALUE=DATE:20090226
DTEND;VALUE=DATE:20090227
TRANSP:TRANSPARENT
X-MICROSOFT-CDO-ALLDAYEVENT:TRUE
SUMMARY:Sales and Marketing New Home Social at West Broad Village
DESCRIPTION:
X-ALT-DESC;FMTTYPE=text/html:
LOCATION:11173 West Broad Street Glen Allen\, VA 23060
UID:e.9289.285
SEQUENCE:3
DTSTAMP:20260421T222611Z
URL:https://members.hbar.org/events/details/sales-and-marketing-new-home-social-at-west-broad-village-02-26-2009-285
END:VEVENT

END:VCALENDAR
