BEGIN:VCALENDAR
VERSION:2.0
PRODID:-//ChamberMaster//Event Calendar 2.0//EN
METHOD:PUBLISH
X-PUBLISHED-TTL:P3D
REFRESH-INTERVAL:P3D
CALSCALE:GREGORIAN
BEGIN:VEVENT
DTSTART:20111103T160000Z
DTEND:20111103T220000Z
X-MICROSOFT-CDO-ALLDAYEVENT:FALSE
SUMMARY:Reverse Trade Show
DESCRIPTION:Associate members get five minutes of one-on-one time with builders in this unique networking event.
X-ALT-DESC;FMTTYPE=text/html:<p>Associate members get five minutes of one-on-one time with builders in this unique networking event.&nbsp\;</p>
LOCATION:2132 Tomlynn Street (804) 253-0156 Richmond\, VA 23230
UID:e.9289.278
SEQUENCE:3
DTSTAMP:20260426T003721Z
URL:https://members.hbar.org/events/details/reverse-trade-show-11-03-2011-278
END:VEVENT

END:VCALENDAR
