BEGIN:VCALENDAR
VERSION:2.0
PRODID:-//ChamberMaster//Event Calendar 2.0//EN
METHOD:PUBLISH
X-PUBLISHED-TTL:P3D
REFRESH-INTERVAL:P3D
CALSCALE:GREGORIAN
BEGIN:VEVENT
DTSTART;VALUE=DATE:20101021
DTEND;VALUE=DATE:20101022
TRANSP:TRANSPARENT
X-MICROSOFT-CDO-ALLDAYEVENT:TRUE
SUMMARY:Reverse Trade Show
DESCRIPTION:Associate members get five minutes of one -on - one time with builders in this unique networking/tradeshow event.  Follow link for more info. http://archive.constantcontact.com/fs033/1101768041562/archive/1103752568383.html
X-ALT-DESC;FMTTYPE=text/html:<p>Associate members get five minutes of one -on - one time with builders</p> <p>in this unique networking/tradeshow event.&nbsp\; Follow link for more info.</p> <p><a href="http://archive.constantcontact.com/fs033/1101768041562/archive/1103752568383.html">http://archive.constantcontact.com/fs033/1101768041562/archive/1103752568383.html</a></p>
LOCATION:2132 Tomlynn Street Richmond\, VA 23230
UID:e.9289.277
SEQUENCE:3
DTSTAMP:20260424T235854Z
URL:https://members.hbar.org/events/details/reverse-trade-show-10-21-2010-277
END:VEVENT

END:VCALENDAR
