BEGIN:VCALENDAR
VERSION:2.0
PRODID:-//ChamberMaster//Event Calendar 2.0//EN
METHOD:PUBLISH
X-PUBLISHED-TTL:P3D
REFRESH-INTERVAL:P3D
CALSCALE:GREGORIAN
BEGIN:VEVENT
DTSTART:20091017T160000Z
DTEND:20091018T160000Z
X-MICROSOFT-CDO-ALLDAYEVENT:FALSE
SUMMARY:Parade of Homes week 3
DESCRIPTION:
X-ALT-DESC;FMTTYPE=text/html:
LOCATION:\, VA
UID:e.9289.254
SEQUENCE:3
DTSTAMP:20260422T141033Z
URL:https://members.hbar.org/events/details/parade-of-homes-week-3-10-17-2009-254
END:VEVENT

END:VCALENDAR
