BEGIN:VCALENDAR
VERSION:2.0
PRODID:-//ChamberMaster//Event Calendar 2.0//EN
METHOD:PUBLISH
X-PUBLISHED-TTL:P3D
REFRESH-INTERVAL:P3D
CALSCALE:GREGORIAN
BEGIN:VEVENT
DTSTART;VALUE=DATE:20100715
DTEND;VALUE=DATE:20100716
TRANSP:TRANSPARENT
X-MICROSOFT-CDO-ALLDAYEVENT:TRUE
SUMMARY:Pacesetter Breakfast With Tom Richey
DESCRIPTION:Registration form: http://www.hbar.org/site/publisher/files/pacesetter2010form.pdf
X-ALT-DESC;FMTTYPE=text/html:<p>Registration form: <a target="_blank" href="http://www.hbar.org/site/publisher/files/pacesetter2010form.pdf">http://www.hbar.org/site/publisher/files/pacesetter2010form.pdf</a></p>
LOCATION:4224 Cox Rd. Glen Allen\, VA 23060
UID:e.9289.229
SEQUENCE:3
DTSTAMP:20260424T174653Z
URL:https://members.hbar.org/events/details/pacesetter-breakfast-with-tom-richey-07-15-2010-229
END:VEVENT

END:VCALENDAR
