BEGIN:VCALENDAR
VERSION:2.0
PRODID:-//ChamberMaster//Event Calendar 2.0//EN
METHOD:PUBLISH
X-PUBLISHED-TTL:P3D
REFRESH-INTERVAL:P3D
CALSCALE:GREGORIAN
BEGIN:VEVENT
DTSTART;VALUE=DATE:20100422
DTEND;VALUE=DATE:20100423
TRANSP:TRANSPARENT
X-MICROSOFT-CDO-ALLDAYEVENT:TRUE
SUMMARY:NHS Westerleigh
DESCRIPTION:Main Street Homes\, Builder of the Year\, is hosting the first New Home Social of 2010. Registration form: http://www.hbar.org/site/publisher/files/New%20Home%20Social%204-22-10.pdf
X-ALT-DESC;FMTTYPE=text/html:<p>Main Street Homes\, Builder of the Year\, is hosting the first New Home Social of 2010.</p> <p>Registration form: <a href="http://www.hbar.org/site/publisher/files/New%20Home%20Social%204-22-10.pdf">http://www.hbar.org/site/publisher/files/New%20Home%20Social%204-22-10.pdf</a>&nbsp\;</p>
LOCATION:5100 Otterdale Rd. Moseley\, VA 23120
UID:e.9289.222
SEQUENCE:3
DTSTAMP:20260424T122114Z
URL:https://members.hbar.org/events/details/nhs-westerleigh-04-22-2010-222
END:VEVENT

END:VCALENDAR
