BEGIN:VCALENDAR
VERSION:2.0
PRODID:-//ChamberMaster//Event Calendar 2.0//EN
METHOD:PUBLISH
X-PUBLISHED-TTL:P3D
REFRESH-INTERVAL:P3D
CALSCALE:GREGORIAN
BEGIN:VEVENT
DTSTART;VALUE=DATE:20091210
DTEND;VALUE=DATE:20091211
TRANSP:TRANSPARENT
X-MICROSOFT-CDO-ALLDAYEVENT:TRUE
SUMMARY:New Home Social at Miller and Rhoads Condos
DESCRIPTION:Miller and Rhoads Residences are the hottest thing in the downtown area. Tour the models and enjoy great food and beverages. FREE valet parking! Register: http://www.hbar.org/documents/InvitationDec10th.pdf
X-ALT-DESC;FMTTYPE=text/html:<p>Miller and Rhoads Residences are the hottest thing</p> <p>in the downtown area. Tour the models and enjoy</p> <p>great food and beverages. FREE valet parking!</p> <p>Register: <a href="http://www.hbar.org/documents/InvitationDec10th.pdf">http://www.hbar.org/documents/InvitationDec10th.pdf</a></p>
LOCATION:230 N. 6th Street Richmond\, VA 23219
UID:e.9289.220
SEQUENCE:3
DTSTAMP:20260422T173841Z
URL:https://members.hbar.org/events/details/new-home-social-at-miller-and-rhoads-condos-12-10-2009-220
END:VEVENT

END:VCALENDAR
