BEGIN:VCALENDAR
VERSION:2.0
PRODID:-//ChamberMaster//Event Calendar 2.0//EN
METHOD:PUBLISH
X-PUBLISHED-TTL:P3D
REFRESH-INTERVAL:P3D
CALSCALE:GREGORIAN
BEGIN:VEVENT
DTSTART:20091008T160000Z
DTEND:20091008T220000Z
X-MICROSOFT-CDO-ALLDAYEVENT:FALSE
SUMMARY:NEW Home Social
DESCRIPTION:The Sales and Marketing Council invites you to a casual networking event at the award winning Grayson Hill community. Sponsored by Gumenick Properties Beverages provided by Wells Fargo follow this link to the registration form: http://www.hbar.org/documents/GraysonHillNHS_001.pdf
X-ALT-DESC;FMTTYPE=text/html:<p>The Sales and Marketing Council invites you to a casual networking event</p> <p>at the award winning Grayson Hill community.</p> <p>Sponsored by Gumenick Properties</p> <p>Beverages provided by Wells Fargo</p> <p>follow this link to the registration form: <a href="http://www.hbar.org/documents/GraysonHillNHS_001.pdf">http://www.hbar.org/documents/GraysonHillNHS_001.pdf</a></p>
LOCATION:\,
UID:e.9289.218
SEQUENCE:3
DTSTAMP:20260422T135340Z
URL:https://members.hbar.org/events/details/new-home-social-10-08-2009-218
END:VEVENT

END:VCALENDAR
