BEGIN:VCALENDAR
VERSION:2.0
PRODID:-//ChamberMaster//Event Calendar 2.0//EN
METHOD:PUBLISH
X-PUBLISHED-TTL:P3D
REFRESH-INTERVAL:P3D
CALSCALE:GREGORIAN
BEGIN:VEVENT
DTSTART;VALUE=DATE:20100617
DTEND;VALUE=DATE:20100618
TRANSP:TRANSPARENT
X-MICROSOFT-CDO-ALLDAYEVENT:TRUE
SUMMARY:New Home Social
DESCRIPTION:5:30 P.M.- 7:30 P.M.  http://www.hbar.org/site/publisher/files/2HBAR-CountryFair-EmailReg(1).pdf  casual networking event members and non-members
X-ALT-DESC;FMTTYPE=text/html:<p>5:30 P.M.- 7:30 P.M.&nbsp\; <a target="_blank" href="http://www.hbar.org/site/publisher/files/2HBAR-CountryFair-EmailReg(1).pdf">http://www.hbar.org/site/publisher/files/2HBAR-CountryFair-EmailReg(1).pdf</a>&nbsp\;</p> <p>casual networking event</p> <p>members and non-members</p>
LOCATION:\,
UID:e.9289.217
SEQUENCE:3
DTSTAMP:20260424T161709Z
URL:https://members.hbar.org/events/details/new-home-social-06-17-2010-217
END:VEVENT

END:VCALENDAR
