BEGIN:VCALENDAR
VERSION:2.0
PRODID:-//ChamberMaster//Event Calendar 2.0//EN
METHOD:PUBLISH
X-PUBLISHED-TTL:P3D
REFRESH-INTERVAL:P3D
CALSCALE:GREGORIAN
BEGIN:VEVENT
DTSTART;VALUE=DATE:20080424
DTEND;VALUE=DATE:20080425
TRANSP:TRANSPARENT
X-MICROSOFT-CDO-ALLDAYEVENT:TRUE
SUMMARY:Networking at Night
DESCRIPTION:
X-ALT-DESC;FMTTYPE=text/html:
LOCATION:130 Wylderose Dr Midlothian\, VA 23113
UID:e.9289.216
SEQUENCE:3
DTSTAMP:20260421T221801Z
URL:https://members.hbar.org/events/details/networking-at-night-04-24-2008-216
END:VEVENT

END:VCALENDAR
