BEGIN:VCALENDAR
VERSION:2.0
PRODID:-//ChamberMaster//Event Calendar 2.0//EN
METHOD:PUBLISH
X-PUBLISHED-TTL:P3D
REFRESH-INTERVAL:P3D
CALSCALE:GREGORIAN
BEGIN:VEVENT
DTSTART;VALUE=DATE:20100218
DTEND;VALUE=DATE:20100219
TRANSP:TRANSPARENT
X-MICROSOFT-CDO-ALLDAYEVENT:TRUE
SUMMARY:NAHB Class: Diversification-Capitalizing on New Business Opps
DESCRIPTION:8 hr class discussing how to build and diversify your business. Details: http://www.hbar.org/site/publisher/files/diversification%20feb%202010%202009.pdf
X-ALT-DESC;FMTTYPE=text/html:<p>8 hr class discussing how to build and diversify your business.</p> <p>Details: <a href="http://www.hbar.org/site/publisher/files/diversification%20feb%202010%202009.pdf">http://www.hbar.org/site/publisher/files/diversification%20feb%202010%202009.pdf</a>&nbsp\;</p>
LOCATION:400 N. Ridge Rd Richmond\,\, VA 23229
UID:e.9289.213
SEQUENCE:3
DTSTAMP:20260424T084645Z
URL:https://members.hbar.org/events/details/nahb-class-diversification-capitalizing-on-new-business-opps-02-18-2010-213
END:VEVENT

END:VCALENDAR
