BEGIN:VCALENDAR
VERSION:2.0
PRODID:-//ChamberMaster//Event Calendar 2.0//EN
METHOD:PUBLISH
X-PUBLISHED-TTL:P3D
REFRESH-INTERVAL:P3D
CALSCALE:GREGORIAN
BEGIN:VEVENT
DTSTART;VALUE=DATE:20100219
DTEND;VALUE=DATE:20100220
TRANSP:TRANSPARENT
X-MICROSOFT-CDO-ALLDAYEVENT:TRUE
SUMMARY:NAHB Class: Construction Contracts and Law
DESCRIPTION:University of Housing class: details http://www.hbar.org/site/publisher/files/construction%20contracts%20and%20law%20feb%202010%202009.pdf
X-ALT-DESC;FMTTYPE=text/html:<p>University of Housing class: details</p> <p><a href="http://www.hbar.org/site/publisher/files/construction%20contracts%20and%20law%20feb%202010%202009.pdf">http://www.hbar.org/site/publisher/files/construction%20contracts%20and%20law%20feb%202010%202009.pdf</a></p>
LOCATION:400 N. Ridge Rd Richmond\,\, VA 23229
UID:e.9289.212
SEQUENCE:3
DTSTAMP:20260424T082302Z
URL:https://members.hbar.org/events/details/nahb-class-construction-contracts-and-law-02-19-2010-212
END:VEVENT

END:VCALENDAR
