BEGIN:VCALENDAR
VERSION:2.0
PRODID:-//ChamberMaster//Event Calendar 2.0//EN
METHOD:PUBLISH
X-PUBLISHED-TTL:P3D
REFRESH-INTERVAL:P3D
CALSCALE:GREGORIAN
BEGIN:VEVENT
DTSTART;VALUE=DATE:20100311
DTEND;VALUE=DATE:20100312
TRANSP:TRANSPARENT
X-MICROSOFT-CDO-ALLDAYEVENT:TRUE
SUMMARY:MAME Awards Dinner
DESCRIPTION:
X-ALT-DESC;FMTTYPE=text/html:
LOCATION:1800 Lakeside Avenue Richmond\, VA 23228
UID:e.9289.187
SEQUENCE:3
DTSTAMP:20260424T095754Z
URL:https://members.hbar.org/events/details/mame-awards-dinner-03-11-2010-187
END:VEVENT

END:VCALENDAR
