BEGIN:VCALENDAR
VERSION:2.0
PRODID:-//ChamberMaster//Event Calendar 2.0//EN
METHOD:PUBLISH
X-PUBLISHED-TTL:P3D
REFRESH-INTERVAL:P3D
CALSCALE:GREGORIAN
BEGIN:VEVENT
DTSTART:20090205T170000Z
DTEND:20090205T230000Z
X-MICROSOFT-CDO-ALLDAYEVENT:FALSE
SUMMARY:Local Forecast Seminar
DESCRIPTION:
X-ALT-DESC;FMTTYPE=text/html:
LOCATION:Holiday Inn - Select Richmond\, VA 23235
UID:e.9289.174
SEQUENCE:3
DTSTAMP:20260421T221947Z
URL:https://members.hbar.org/events/details/local-forecast-seminar-02-05-2009-174
END:VEVENT

END:VCALENDAR
