BEGIN:VCALENDAR
VERSION:2.0
PRODID:-//ChamberMaster//Event Calendar 2.0//EN
METHOD:PUBLISH
X-PUBLISHED-TTL:P3D
REFRESH-INTERVAL:P3D
CALSCALE:GREGORIAN
BEGIN:VEVENT
DTSTART:20100204T170000Z
DTEND:20100204T230000Z
X-MICROSOFT-CDO-ALLDAYEVENT:FALSE
SUMMARY:Local Forecast Seminar
DESCRIPTION:
X-ALT-DESC;FMTTYPE=text/html:
LOCATION:Koger South Conference Center 1021 Koger Center Boulevard Richmond\, VA 23235
UID:e.9289.175
SEQUENCE:3
DTSTAMP:20260422T205918Z
URL:https://members.hbar.org/events/details/local-forecast-seminar-02-04-2010-175
END:VEVENT

END:VCALENDAR
