BEGIN:VCALENDAR
VERSION:2.0
PRODID:-//ChamberMaster//Event Calendar 2.0//EN
METHOD:PUBLISH
X-PUBLISHED-TTL:P3D
REFRESH-INTERVAL:P3D
CALSCALE:GREGORIAN
BEGIN:VEVENT
DTSTART:20111117T230000Z
DTEND:20111117T170000Z
X-MICROSOFT-CDO-ALLDAYEVENT:FALSE
SUMMARY:Leadership & Legacy Celebration
DESCRIPTION:Home Building Association of Richmond\n    Leadership & Legacy \n    dinner\n    Join Us as We Honor Our Leadership \n    & Preserve Our Legacy\n     \n     2011 President David Owen of Boone Homes\, Inc. \n     2012 President Sarah Kellam of Homeplaces\, Ltd. \n     \n    Special Presentations \n    2011 Ernest E. Mayo Award \n    2011 Guy B. Hazelgrove\, Jr. Membership Development Award\n     \n    Hermitage Country Club\n    Thursday\, November 17\, 2011\n    Business Attire\n    5:30-6:30 Cocktail Hour \n    6:30-7:30 Filet Dinner (bottled wine sales & open seating)\n    7:30-8:15 Program\n    Cash Bar available 5:30-7:30 & one hour after program\n    Cash only facility**
X-ALT-DESC;FMTTYPE=text/html:<div style="text-align: center">&nbsp\;<span style="font-size: 18pt"><span style="color: #777777"><span style="font-family: franklin gothic book">Home Building Association of Richmond</span></span></span><br>    <span style="font-size: 24pt"><span style="color: #777777"><span style="font-family: lucida calligraphy">Leadership &amp\; Legacy </span></span></span><br>    <span style="font-size: 28pt"><span style="color: #777777"><span style="font-family: franklin gothic book">d</span></span></span><span style="font-size: 28pt"><span style="color: #d6e0e0"><span style="font-family: franklin gothic book">i</span></span></span><span style="font-size: 28pt"><span style="color: #ff9966"><span style="font-family: franklin gothic book">n</span></span></span><span style="font-size: 28pt"><span style="color: #777777"><span style="font-family: franklin gothic book">n</span></span></span><span style="font-size: 28pt"><span style="color: #ff9966"><span style="font-family: franklin gothic book">e</span></span></span><span style="font-size: 28pt"><span style="color: #d6e0e0"><span style="font-family: franklin gothic book">r</span></span></span><br>    <span style="font-size: 16pt"><span style="color: #777777"><span style="font-family: franklin gothic book">Join Us as We Honor Our Leadership </span></span></span><br>    <span style="font-size: 16pt"><span style="color: #777777"><span style="font-family: franklin gothic book">&amp\; Preserve Our Legacy</span></span></span><br>    &nbsp\;<br>    <span style="font-size: 14pt"><span style="color: #777777"><span style="font-family: franklin gothic book">&nbsp\;2011 President David Owen of Boone Homes\, Inc. </span></span></span><br>    <span style="font-size: 14pt"><span style="color: #777777"><span style="font-family: franklin gothic book">&nbsp\;2012 President Sarah Kellam of Homeplaces\, Ltd. </span></span></span><br>    &nbsp\;<br>    <span style="font-size: 14pt"><span style="color: #777777"><span style="font-family: franklin gothic book">Special Presentations </span></span></span><br>    <span style="font-size: 12pt"><span style="color: #777777"><span style="font-family: franklin gothic book">2011 Ernest E. Mayo Award </span></span></span><br>    <span style="font-size: 12pt"><span style="color: #777777"><span style="font-family: franklin gothic book">2011 Guy B. Hazelgrove\, Jr. Membership Development Award</span></span></span><br>    &nbsp\;<br>    <span style="font-size: 14pt"><span style="color: #777777"><span style="font-family: franklin gothic book">Hermitage Country Club</span></span></span><br>    <span style="font-size: 14pt"><span style="color: #ff9966"><span style="font-family: franklin gothic book">Thursday\, November 17\, 2011</span></span></span><br>    <span style="font-size: 14pt"><span style="color: #777777"><span style="font-family: franklin gothic book">Business Attire</span></span></span><br>    <span style="font-size: 14pt"><span style="color: #777777"><span style="font-family: franklin gothic book">5:30-6:30 Cocktail Hour </span></span></span><br>    <span style="font-size: 14pt"><span style="color: #777777"><span style="font-family: franklin gothic book">6:30-7:30 Filet Dinner </span></span></span><span style="font-size: 11pt"><span style="color: #777777"><span style="font-family: franklin gothic book">(bottled wine sales &amp\; open seating)</span></span></span><br>    <span style="font-size: 14pt"><span style="color: #777777"><span style="font-family: franklin gothic book">7:30-8:15 Program</span></span></span><br>    <span style="font-size: 11pt"><span style="color: #777777"><span style="font-family: franklin gothic book">Cash Bar available 5:30-7:30 &amp\; one hour after program</span></span></span><br>    <span style="font-size: 11pt"><span style="color: #ff9966"><span style="font-family: franklin gothic book">Cash only facility**</span></span></span><br>    &nbsp\;<br>    &nbsp\;<br>    &nbsp\;</div>
LOCATION:1248 Hermitage Road (804) 784-5234 Manakin-Sabot\, VA 23103
UID:e.9289.167
SEQUENCE:3
DTSTAMP:20260426T002724Z
URL:https://members.hbar.org/events/details/leadership-legacy-celebration-11-17-2011-167
END:VEVENT

END:VCALENDAR
