BEGIN:VCALENDAR
VERSION:2.0
PRODID:-//ChamberMaster//Event Calendar 2.0//EN
METHOD:PUBLISH
X-PUBLISHED-TTL:P3D
REFRESH-INTERVAL:P3D
CALSCALE:GREGORIAN
BEGIN:VEVENT
DTSTART:20100918T160000Z
DTEND:20101003T160000Z
X-MICROSOFT-CDO-ALLDAYEVENT:FALSE
SUMMARY:Homearama
DESCRIPTION:
X-ALT-DESC;FMTTYPE=text/html:
LOCATION:7419 Patriots Landing Place Quinton\, VA 23141
UID:e.9289.157
SEQUENCE:3
DTSTAMP:20260424T215751Z
URL:https://members.hbar.org/events/details/homearama-09-18-2010-157
END:VEVENT

END:VCALENDAR
