BEGIN:VCALENDAR
VERSION:2.0
PRODID:-//ChamberMaster//Event Calendar 2.0//EN
METHOD:PUBLISH
X-PUBLISHED-TTL:P3D
REFRESH-INTERVAL:P3D
CALSCALE:GREGORIAN
BEGIN:VEVENT
DTSTART:20100405T160000Z
DTEND:20100406T160000Z
X-MICROSOFT-CDO-ALLDAYEVENT:FALSE
SUMMARY:Green Building Science
DESCRIPTION:
X-ALT-DESC;FMTTYPE=text/html:
LOCATION:4224 Cox Rd. Glen Allen\, VA 23060
UID:e.9289.125
SEQUENCE:3
DTSTAMP:20260424T121523Z
URL:https://members.hbar.org/events/details/green-building-science-04-05-2010-125
END:VEVENT

END:VCALENDAR
