BEGIN:VCALENDAR
VERSION:2.0
PRODID:-//ChamberMaster//Event Calendar 2.0//EN
METHOD:PUBLISH
X-PUBLISHED-TTL:P3D
REFRESH-INTERVAL:P3D
CALSCALE:GREGORIAN
BEGIN:VEVENT
DTSTART:20081017T160000Z
DTEND:20081018T160000Z
X-MICROSOFT-CDO-ALLDAYEVENT:FALSE
SUMMARY:Green Building for Building Professionals
DESCRIPTION:Learn how green homes provide buyers with lower energy costs and higher value. This 2-day course for building professionals discusses strategies for incorporating green-building principles into homes without driving up the cost of construction. Lower energy costs and create higher value. Consider green building objectives in a remodeling project. Apply successful business management\, marketing and sales strategies to sell green. Designations: CGA\, CGB\, CGP Continuing Education Credit: CAPS\, CGA\, CGB\, CGR\, GMB\, CSP\, Master CSP\, CMP\, MIRM
X-ALT-DESC;FMTTYPE=text/html:<p>Learn how green homes provide buyers with lower energy costs and higher value. This 2-day course for building professionals discusses strategies for incorporating green-building principles into homes without driving up the cost of construction. Lower energy costs and create higher value.</p> <p>Consider green building objectives in a remodeling project.</p> <p>Apply successful business management\, marketing and sales strategies to sell green.</p> <p>Designations: CGA\, CGB\, CGP</p> <p>Continuing Education Credit: CAPS\, CGA\, CGB\, CGR\, GMB\, CSP\, Master CSP\, CMP\, MIRM</p>
LOCATION:VHDA 4224 Cox Road Glenn Allen\, VA 23060
UID:e.9289.123
SEQUENCE:3
DTSTAMP:20260421T121606Z
URL:https://members.hbar.org/events/details/green-building-for-building-professionals-10-17-2008-123
END:VEVENT

END:VCALENDAR
