BEGIN:VCALENDAR
VERSION:2.0
PRODID:-//ChamberMaster//Event Calendar 2.0//EN
METHOD:PUBLISH
X-PUBLISHED-TTL:P3D
REFRESH-INTERVAL:P3D
CALSCALE:GREGORIAN
BEGIN:VEVENT
DTSTART;VALUE=DATE:20090914
DTEND;VALUE=DATE:20090915
TRANSP:TRANSPARENT
X-MICROSOFT-CDO-ALLDAYEVENT:TRUE
SUMMARY:Fourth Quarter and Beyond/ Regional Forecast Luncheon
DESCRIPTION:Consumer trends and a regional outlook for new home construction and remodeling will be discussed. Keynote Speaker: David Crowe\, NAHB Senior Vice-President of Economic Analysis  To register for this event click on the link http://www.hbar.org/documents/sept14_003.pdf
X-ALT-DESC;FMTTYPE=text/html:<p>Consumer trends and a regional outlook for new home construction and remodeling will be discussed.</p> <p>Keynote Speaker: David Crowe\, NAHB Senior Vice-President of Economic Analysis&nbsp\;</p> <p>To register for this event click on the link&nbsp\;<a href="http://www.hbar.org/documents/sept14_003.pdf">http://www.hbar.org/documents/sept14_003.pdf</a></p>
LOCATION:\,
UID:e.9289.99
SEQUENCE:3
DTSTAMP:20260422T120947Z
URL:https://members.hbar.org/events/details/fourth-quarter-and-beyond-regional-forecast-luncheon-09-14-2009-99
END:VEVENT

END:VCALENDAR
