BEGIN:VCALENDAR
VERSION:2.0
PRODID:-//ChamberMaster//Event Calendar 2.0//EN
METHOD:PUBLISH
X-PUBLISHED-TTL:P3D
REFRESH-INTERVAL:P3D
CALSCALE:GREGORIAN
BEGIN:VEVENT
DTSTART;VALUE=DATE:20111012
DTEND;VALUE=DATE:20111013
TRANSP:TRANSPARENT
X-MICROSOFT-CDO-ALLDAYEVENT:TRUE
SUMMARY:Fall Outing Golf Tournament
DESCRIPTION:
X-ALT-DESC;FMTTYPE=text/html:
LOCATION:15201 Ashland Road (804) 749-1900 Glen Allen\, VA 23059
UID:e.9289.96
SEQUENCE:3
DTSTAMP:20260426T003057Z
URL:https://members.hbar.org/events/details/fall-outing-golf-tournament-10-12-2011-96
END:VEVENT

END:VCALENDAR
