BEGIN:VCALENDAR
VERSION:2.0
PRODID:-//ChamberMaster//Event Calendar 2.0//EN
METHOD:PUBLISH
X-PUBLISHED-TTL:P3D
REFRESH-INTERVAL:P3D
CALSCALE:GREGORIAN
BEGIN:VEVENT
DTSTART:20080911T220000Z
DTEND:20080911T160000Z
X-MICROSOFT-CDO-ALLDAYEVENT:FALSE
SUMMARY:Fall Outing Golf Tournament
DESCRIPTION:
X-ALT-DESC;FMTTYPE=text/html:
LOCATION:Hunting Hawk Golf Club Hanover\, VA 23228
UID:e.9289.95
SEQUENCE:3
DTSTAMP:20260421T123609Z
URL:https://members.hbar.org/events/details/fall-outing-golf-tournament-09-11-2008-95
END:VEVENT

END:VCALENDAR
