BEGIN:VCALENDAR
VERSION:2.0
PRODID:-//ChamberMaster//Event Calendar 2.0//EN
METHOD:PUBLISH
X-PUBLISHED-TTL:P3D
REFRESH-INTERVAL:P3D
CALSCALE:GREGORIAN
BEGIN:VEVENT
DTSTART:20090910T220000Z
DTEND:20090910T160000Z
X-MICROSOFT-CDO-ALLDAYEVENT:FALSE
SUMMARY:Fall Outing Golf Tournament
DESCRIPTION:Click on the link for team registration\, tee sponsorships or registration to attend the Seafood Feast. http://www.hbar.org/documents/Fallgolfouttingseafoodtee.doc
X-ALT-DESC;FMTTYPE=text/html:<p>Click on the link for team registration\, tee sponsorships or registration to attend the Seafood Feast.</p> <p><a href="http://www.hbar.org/documents/Fallgolfouttingseafoodtee.doc">http://www.hbar.org/documents/Fallgolfouttingseafoodtee.doc</a></p> <p>&nbsp\;</p> <p>&nbsp\;</p>
LOCATION:Hunting Hawk Golf Club Hanover\, VA 23228
UID:e.9289.97
SEQUENCE:3
DTSTAMP:20260422T121136Z
URL:https://members.hbar.org/events/details/fall-outing-golf-tournament-09-10-2009-97
END:VEVENT

END:VCALENDAR
