BEGIN:VCALENDAR
VERSION:2.0
PRODID:-//ChamberMaster//Event Calendar 2.0//EN
METHOD:PUBLISH
X-PUBLISHED-TTL:P3D
REFRESH-INTERVAL:P3D
CALSCALE:GREGORIAN
BEGIN:VEVENT
DTSTART;VALUE=DATE:20090314
DTEND;VALUE=DATE:20090315
TRANSP:TRANSPARENT
X-MICROSOFT-CDO-ALLDAYEVENT:TRUE
SUMMARY:Dream Home Tour
DESCRIPTION:
X-ALT-DESC;FMTTYPE=text/html:
LOCATION:\, VA
UID:e.9289.80
SEQUENCE:3
DTSTAMP:20260422T001342Z
URL:https://members.hbar.org/events/details/dream-home-tour-03-14-2009-80
END:VEVENT

END:VCALENDAR
