BEGIN:VCALENDAR
VERSION:2.0
PRODID:-//ChamberMaster//Event Calendar 2.0//EN
METHOD:PUBLISH
X-PUBLISHED-TTL:P3D
REFRESH-INTERVAL:P3D
CALSCALE:GREGORIAN
BEGIN:VEVENT
DTSTART;VALUE=DATE:20110407
DTEND;VALUE=DATE:20110408
TRANSP:TRANSPARENT
X-MICROSOFT-CDO-ALLDAYEVENT:TRUE
SUMMARY:Associates Showcase - Exhibitor
DESCRIPTION:
X-ALT-DESC;FMTTYPE=text/html:
LOCATION:1021 Koger Center Boulevard Richmond\, VA 23235
UID:e.9289.35
SEQUENCE:3
DTSTAMP:20260425T111626Z
URL:https://members.hbar.org/events/details/associates-showcase-exhibitor-04-07-2011-35
END:VEVENT

END:VCALENDAR
