BEGIN:VCALENDAR
VERSION:2.0
PRODID:-//ChamberMaster//Event Calendar 2.0//EN
METHOD:PUBLISH
X-PUBLISHED-TTL:P3D
REFRESH-INTERVAL:P3D
CALSCALE:GREGORIAN
BEGIN:VEVENT
DTSTART;VALUE=DATE:20090402
DTEND;VALUE=DATE:20090403
TRANSP:TRANSPARENT
X-MICROSOFT-CDO-ALLDAYEVENT:TRUE
SUMMARY:Associates Showcase - Booth
DESCRIPTION:April 02\, 2009 Omni Richmond Hotel 6pm-8pm
X-ALT-DESC;FMTTYPE=text/html:<p>April 02\, 2009 Omni Richmond Hotel 6pm-8pm</p>
LOCATION:\, VA
UID:e.9289.30
SEQUENCE:3
DTSTAMP:20260422T022032Z
URL:https://members.hbar.org/events/details/associates-showcase-booth-04-02-2009-30
END:VEVENT

END:VCALENDAR
