BEGIN:VCALENDAR
VERSION:2.0
PRODID:-//ChamberMaster//Event Calendar 2.0//EN
METHOD:PUBLISH
X-PUBLISHED-TTL:P3D
REFRESH-INTERVAL:P3D
CALSCALE:GREGORIAN
BEGIN:VEVENT
DTSTART:20260610T130000Z
DTEND:20260610T140000Z
X-MICROSOFT-CDO-ALLDAYEVENT:FALSE
SUMMARY:Associates Council
DESCRIPTION:Please join the Associates Council for a roundtable discussion with CraftMaster Homes? Tim Parent. \n\n\n\nGeneral Manager of CraftMaster Homes\, Tim Parent has 20 years of experience in the home building industry from project management to sales and marketing. A graduate of Virginia Tech\, Tim is well versed in anticipating real estate market trends and evaluating the current financial market. A past President of the Home Builder?s Association of Richmond\, Parent helped to lead support for the industry through advocacy\, education\, networking\, and marketing.
X-ALT-DESC;FMTTYPE=text/html:<span style="font-size:12px\;"><span style="font-family:arial\;">Please join the Associates Council for a roundtable discussion with CraftMaster Homes? Tim Parent.&nbsp\;<br>\n<br>\nGeneral Manager of CraftMaster Homes\, Tim Parent has 20 years of experience in the home building industry from project management to sales and marketing. A graduate of Virginia Tech\, Tim is well versed in anticipating real estate market trends and evaluating the current financial market. A past President of the Home Builder?s Association of Richmond\, Parent helped to lead support for the industry through advocacy\, education\, networking\, and marketing.</span></span><br>\n<br>\n<br>\n&nbsp\;
LOCATION:HBAR (IN PERSON) - 400 N. Ridge Road\, Henrico\, VA 23229
UID:e.9289.3626
SEQUENCE:3
DTSTAMP:20260421T153809Z
URL:https://members.hbar.org/events/details/associates-council-with-craftmaster-homes-06-10-2026-3626
END:VEVENT

END:VCALENDAR
