BEGIN:VCALENDAR
VERSION:2.0
PRODID:-//ChamberMaster//Event Calendar 2.0//EN
METHOD:PUBLISH
X-PUBLISHED-TTL:P3D
REFRESH-INTERVAL:P3D
CALSCALE:GREGORIAN
BEGIN:VEVENT
DTSTART:20250514T130000Z
DTEND:20250514T140000Z
X-MICROSOFT-CDO-ALLDAYEVENT:FALSE
SUMMARY:Associates Council
DESCRIPTION:Please join the Associates Council for a roundtable discussion with a builder developing locally.  In May we feature and welcome River City Custom Homes with owner Danny Sowers and Vice President Katie Bresnahan. River City Custom Homes have developed a thoughtful and detailed approach to designing and building custom homes.
X-ALT-DESC;FMTTYPE=text/html:<span style="color: rgb(51\, 51\, 51)\; font-family: arial\; font-size: 14px\; background-color: rgb(255\, 255\, 255)\;">Please join the Associates Council for a roundtable discussion with a builder developing locally.&nbsp\; In May we feature and welcome River City Custom Homes with owner Danny Sowers and Vice President Katie Bresnahan. River City Custom Homes have developed a thoughtful and detailed approach to designing and building custom homes.&nbsp\;&nbsp\;</span>
LOCATION:HBAR (IN PERSON) - 400 N. Ridge Road\, Henrico\, VA 23229
UID:e.9289.3613
SEQUENCE:3
DTSTAMP:20260421T020424Z
URL:https://members.hbar.org/events/details/associates-council-with-craftmaster-homes-05-14-2025-3613
END:VEVENT

END:VCALENDAR
