BEGIN:VCALENDAR
VERSION:2.0
PRODID:-//ChamberMaster//Event Calendar 2.0//EN
METHOD:PUBLISH
X-PUBLISHED-TTL:P3D
REFRESH-INTERVAL:P3D
CALSCALE:GREGORIAN
BEGIN:VEVENT
DTSTART;VALUE=DATE:20090312
DTEND;VALUE=DATE:20090313
TRANSP:TRANSPARENT
X-MICROSOFT-CDO-ALLDAYEVENT:TRUE
SUMMARY:After Hours Economics
DESCRIPTION:
X-ALT-DESC;FMTTYPE=text/html:
LOCATION:15521 Midlothian Turnpike Midlothian\, VA 23113
UID:e.9289.17
SEQUENCE:3
DTSTAMP:20260422T021940Z
URL:https://members.hbar.org/events/details/after-hours-economics-03-12-2009-17
END:VEVENT

END:VCALENDAR
