BEGIN:VCALENDAR
VERSION:2.0
PRODID:-//ChamberMaster//Event Calendar 2.0//EN
METHOD:PUBLISH
X-PUBLISHED-TTL:P3D
REFRESH-INTERVAL:P3D
CALSCALE:GREGORIAN
BEGIN:VEVENT
DTSTART:20111208T230000Z
DTEND:20111208T170000Z
X-MICROSOFT-CDO-ALLDAYEVENT:FALSE
SUMMARY:2011 SMC Holiday Party
DESCRIPTION:Hallsley is uniquely located in the midst of Roseland\, central Virginia's premier master planned community.\n \n http://www.hallsley.com/contact.php
X-ALT-DESC;FMTTYPE=text/html:Hallsley is uniquely located in the midst of Roseland\, central Virginia&#39\;s premier master planned community.<br> <br> <a href="http://www.hallsley.com/contact.php">http://www.hallsley.com/contact.php</a><br> <br>
LOCATION:Roseland Realty Company 1700 Bedwyn Lane Midlothian\, VA 23112
UID:e.9289.13
SEQUENCE:3
DTSTAMP:20260426T022335Z
URL:https://members.hbar.org/events/details/2011-smc-holiday-party-12-08-2011-13
END:VEVENT

END:VCALENDAR
