BEGIN:VCALENDAR
VERSION:2.0
PRODID:-//ChamberMaster//Event Calendar 2.0//EN
METHOD:PUBLISH
X-PUBLISHED-TTL:P3D
REFRESH-INTERVAL:P3D
CALSCALE:GREGORIAN
BEGIN:VEVENT
DTSTART:20200722T180000Z
DTEND:20200722T190000Z
X-MICROSOFT-CDO-ALLDAYEVENT:FALSE
SUMMARY:NAHB Webinar - Evergreen Online Lead Conversion: Creating a Strategy That’s Ready for the Unexpected
DESCRIPTION:2020 has thrown even the best online marketing experts off balance\, barely able to react\, let alone be aggressive in pursuing leads. In this webinar\, learn how to build a successful digital marketing engine that converts online leads and boosts sales even in the most unpredictable markets. With the impact of COVID-19 still looming\, you'll understand what it takes to navigate change now and\, in the future\, and how to create a business pipeline that's actually designed for disruptions.\n\n\n\nParticipants in this webinar will:\n\n\n\n-Differentiate fashionable marketing from long-term trends.\n\n-Evaluate tools and techniques to enable a more digital sales process.\n\n-Learn how to audit and grade the home shopping experience you're providing and make appropriate adjustments.\n\n \n\nSpeakers: Dennis O'Neil\, President\, ONeil Interactive\; Beth Russell\, Director of Marketing\, Stylecraft\n\n\n\nNAHB Continuing Education: 1.0 hours of continuing education credits for the following 12 designations: CAPS\, CGA\, CGB\, CGP\, CGR\, CMP\, CSP\, GMB\, GMR\, Master CGP\, Master CSP\, MIRM.\n\n\n\nLive Webinars: Individuals who register for a live webinar are provided access to the webinar replay for 12 months from the date of purchase.\n\n\n\nCancellation and Refund Policy: Registration is open until 3 p.m. ET (12 p.m. PT) on Tuesday\, July 21. To receive a refund\, cancellations must also be submitted by 3 p.m. ET (12 p.m. PT) on Tuesday\, July 21. After that date\, no refunds will be issued. Cancellation requests must be submitted to Deborah Krat at EdWebinars@nahb.org.
X-ALT-DESC;FMTTYPE=text/html:<br />\n2020 has thrown even the best online marketing experts off balance\, barely able to react\, let alone be aggressive in pursuing leads. In this webinar\, learn how to build a successful digital marketing engine that converts online leads and boosts sales even in the most unpredictable markets. With the impact of COVID-19 still looming\, you&rsquo\;ll understand what it takes to navigate change now and\, in the future\, and how to create a business pipeline that&#39\;s actually designed for disruptions.<br />\n<br />\n<strong>Participants in this webinar will:</strong><br />\n<br />\n-Differentiate fashionable marketing from long-term trends.<br />\n-Evaluate tools and techniques to enable a more digital sales process.<br />\n-Learn how to audit and grade the home shopping experience you&rsquo\;re providing and make appropriate adjustments.<br />\n&nbsp\;<br />\n<strong>Speakers</strong>: Dennis O&#39\;Neil\, President\, ONeil Interactive\; Beth Russell\, Director of Marketing\, Stylecraft<br />\n<br />\n<strong>NAHB Continuing Education:</strong> 1.0 hours of continuing education credits for the following 12 designations: CAPS\, CGA\, CGB\, CGP\, CGR\, CMP\, CSP\, GMB\, GMR\, Master CGP\, Master CSP\, MIRM.<br />\n<br />\n<strong>Live Webinars:</strong> Individuals who register for a live webinar are provided access to the webinar replay for 12 months from the date of purchase.<br />\n<br />\n<strong>Cancellation and Refund Policy</strong>: Registration is open until 3 p.m. ET (12 p.m. PT) on Tuesday\, July 21. To receive a refund\, cancellations must also be submitted by 3 p.m. ET (12 p.m. PT) on Tuesday\, July 21. After that date\, no refunds will be issued. Cancellation requests must be submitted to Deborah Krat at EdWebinars@nahb.org.
LOCATION:Online
UID:e.9289.3368
SEQUENCE:3
DTSTAMP:20260426T025655Z
URL:http://members.hbar.org/events/details/nahb-webinar-evergreen-online-lead-conversion-creating-a-strategy-that-s-ready-for-the-unexpected-3368
END:VEVENT

END:VCALENDAR
