BEGIN:VCALENDAR
VERSION:2.0
PRODID:-//ChamberMaster//Event Calendar 2.0//EN
METHOD:PUBLISH
X-PUBLISHED-TTL:P3D
REFRESH-INTERVAL:P3D
CALSCALE:GREGORIAN
BEGIN:VEVENT
DTSTART:20200807T140000Z
DTEND:20200808T030000Z
X-MICROSOFT-CDO-ALLDAYEVENT:FALSE
SUMMARY:HBAV Member-Wide Webinar: DOLI Standards
DESCRIPTION:Description:\n\nJoin the Home Builders Association of Virginia on Friday\, August 7th for a free HBAV member only webinar. David Burton\, Partner at Williams Mullen\, will cover the requirements to comply with the Virginia Department of Labor's Emergency Regulations. \n\n\n\nThe following topics will be covered\;\n\n	Outline of DOLI Emergency Regulations\n	Virginia Employer Requirements to Comply\n	Resources for Compliance\n	Deadlines for Employer Compliance\n\nREGISTER HERE!
X-ALT-DESC;FMTTYPE=text/html:<strong>Description:</strong><br />\nJoin the Home Builders Association of Virginia on Friday\, August 7th for a free HBAV member only webinar. David Burton\, Partner at Williams Mullen\, will cover the requirements to comply with the Virginia Department of Labor&#39\;s Emergency Regulations.&nbsp\;<br />\n<br />\nThe following topics will be covered\;\n<ul>\n	<li>Outline of DOLI Emergency Regulations</li>\n	<li>Virginia Employer Requirements to Comply</li>\n	<li>Resources for Compliance</li>\n	<li>Deadlines for Employer Compliance</li>\n</ul>\n<a href="https://hbaofvirginiastate.growthzoneapp.com/ap/Events/Register/bLqWQD3p">REGISTER HERE!</a>
LOCATION:Online - REGISTER HERE!
UID:e.9289.3370
SEQUENCE:3
DTSTAMP:20260426T005804Z
URL:http://members.hbar.org/events/details/hbav-member-wide-webinar-doli-standards-3370
END:VEVENT

END:VCALENDAR
