BEGIN:VCALENDAR
VERSION:2.0
PRODID:-//ChamberMaster//Event Calendar 2.0//EN
METHOD:PUBLISH
X-PUBLISHED-TTL:P3D
REFRESH-INTERVAL:P3D
CALSCALE:GREGORIAN
BEGIN:VEVENT
DTSTART:20200826T140000Z
DTEND:20200826T210000Z
X-MICROSOFT-CDO-ALLDAYEVENT:FALSE
SUMMARY:HBAV: Koebig Klassic Golf
DESCRIPTION:HBAV's Golf Tournament. Please visit HBAV.com for more information!
X-ALT-DESC;FMTTYPE=text/html:HBAV&#39\;s Golf Tournament. Please visit HBAV.com for more information!
LOCATION:The Club at Viniterra
UID:e.9289.3353
SEQUENCE:3
DTSTAMP:20260426T011249Z
URL:http://members.hbar.org/events/details/hbav-koebig-klassic-golf-3353
END:VEVENT

END:VCALENDAR
