BEGIN:VCALENDAR
VERSION:2.0
PRODID:-//ChamberMaster//Event Calendar 2.0//EN
METHOD:PUBLISH
X-PUBLISHED-TTL:P3D
REFRESH-INTERVAL:P3D
CALSCALE:GREGORIAN
BEGIN:VEVENT
DTSTART:20260505T123000Z
DTEND:20260506T013000Z
X-MICROSOFT-CDO-ALLDAYEVENT:FALSE
SUMMARY:HBAR Legislative Committee
DESCRIPTION:The Legislative Committee is devoted to working with local elected officials on important issues to the residential land use and construction industry. The Committee is also tasked with interviewing candidates for upcoming elections to determine endorsements\, if any\, of those seeking local office. \n\n\n\nThe Committee meets on the first Tuesday of the month at HBAR headquarters (400 North Ridge Road) from 8:30-9:30 am.
X-ALT-DESC;FMTTYPE=text/html:<span style="font-family: calibri\, sans-serif\; font-size: 14.6667px\;">The Legislative Committee is devoted to working with local elected officials on important issues to the residential land use and construction industry. The Committee is also tasked with interviewing candidates for upcoming elections to determine endorsements\, if any\, of those seeking local office.&nbsp\;<br />\n<br />\nThe Committee meets on the first Tuesday of the month at HBAR headquarters (400 North Ridge Road) from 8:30-9:30 am.&nbsp\;&nbsp\;</span>
LOCATION:
UID:e.9289.2911
SEQUENCE:3
DTSTAMP:20260422T113254Z
URL:http://members.hbar.org/events/details/hbar-legislative-committee-05-05-2026-2911
END:VEVENT

END:VCALENDAR
