BEGIN:VCALENDAR
VERSION:2.0
PRODID:-//ChamberMaster//Event Calendar 2.0//EN
METHOD:PUBLISH
X-PUBLISHED-TTL:P3D
REFRESH-INTERVAL:P3D
CALSCALE:GREGORIAN
BEGIN:VEVENT
DTSTART:20200716T190000Z
DTEND:20200716T210000Z
X-MICROSOFT-CDO-ALLDAYEVENT:FALSE
SUMMARY:Membership Drive
DESCRIPTION:
X-ALT-DESC;FMTTYPE=text/html:
LOCATION:400 N. Ridge Rd Henrico VA 23229
UID:e.9289.3312
SEQUENCE:3
DTSTAMP:20260426T025823Z
URL:http://members.hbar.org/events/details/bbq-with-the-board-of-directors-3312
END:VEVENT

END:VCALENDAR
